BEGIN:VCALENDAR
VERSION:2.0
CALSCALE:GREGORIAN
METHOD:PUBLISH
BEGIN:VEVENT
UID:d0ad46e3eee89d19eae342d95d60b69255a03ea38dfe543e725ae0f79643cc9430241
DTSTART;TZID=Europe/Berlin:20260213T000000
DTEND;TZID=Europe/Berlin:20260214T235959
SUMMARY:Semesterausstellung
DESCRIPTION:Am Ende des Semesters lädt die HfG die interessierte Öffentlichkeit zur digitalen Semesterausstellung ein. Dort präsentieren die Studierenden ihre Semester- und Abschlussarbeiten aus den Studiengängen Interaktions-, Kommunikations- und Produktgestaltung, Digital Product Design and Development – Gestaltung vernetzter Systeme sowie aus dem Masterprogramm Strategische Gestaltung.
LOCATION:
URL;VALUE=URI:https://www.hfg-gmuend.de/en/events/semesterausstellung-2
ACTION:DISPLAY
END:VEVENT
END:VCALENDAR
