BEGIN:VCALENDAR
VERSION:2.0
CALSCALE:GREGORIAN
METHOD:PUBLISH
BEGIN:VEVENT
UID:020f7c8f39ee8d17045c4a4b37543a2467809b9cf62569d4a893e684934136aa569002
DTSTART;TZID=Europe/Berlin:20260504T000000
DTEND;TZID=Europe/Berlin:20260508T235959
SUMMARY:International Seminar Week
DESCRIPTION:The ISW offers all HfG students a diverse program featuring a wide range of courses and creative workshops. International faculty members from partner universities around the world visit Gmünd to share their expertise and diverse perspectives with us.
LOCATION:
URL;VALUE=URI:https://www.hfg-gmuend.de/en/events/international-seminar-week
ACTION:DISPLAY
END:VEVENT
END:VCALENDAR
