BEGIN:VCALENDAR
VERSION:2.0
CALSCALE:GREGORIAN
METHOD:PUBLISH
BEGIN:VEVENT
UID:0f12f8e3642691a8c37532ac8fc31d2de7b432fbf1c708f71e9b2e065ab5202365104
DTSTART;TZID=Europe/Berlin:20230127T000000
DTEND;TZID=Europe/Berlin:20230127T235959
SUMMARY:Vorlesungsende
DESCRIPTION:
LOCATION:
URL;VALUE=URI:https://www.hfg-gmuend.de/en/events/vorlesungsende
ACTION:DISPLAY
END:VEVENT
END:VCALENDAR
